BEGIN:VCALENDAR
VERSION:2.0
PRODID:-//Tukios.com/
BEGIN:VEVENT
UID:8c5eee3b-942a-4809-8208-fd5cf375ba6c@www.paxvilla.com
DTSTAMP:20260422T201141Z
DTSTART:20260425T140000Z
DTEND:20260425T150000Z
SUMMARY:Funeral Service
DESCRIPTION:
URL:https://www.paxvilla.com/obituaries/dieuvais-brutus
LOCATION: 1251 Marllo Road  Kissimmee FL 34744
GEO:28.3032913;-81.3338941
END:VEVENT
END:VCALENDAR