BEGIN:VCALENDAR
VERSION:2.0
PRODID:-//Tukios.com/
BEGIN:VEVENT
UID:fd51a609-683b-4c35-bbaa-aee7222696d0@www.paxvilla.com
DTSTAMP:20260422T201804Z
DTSTART:20260425
SUMMARY:Interment
DESCRIPTION:
URL:https://www.paxvilla.com/obituaries/dieuvais-brutus
LOCATION: 1717 Old Boggy Creek Road  Kissimmee FL 34744
GEO:28.3042354;-81.3743934
END:VEVENT
END:VCALENDAR