BEGIN:VCALENDAR
VERSION:2.0
PRODID:-//Tukios.com/
BEGIN:VEVENT
UID:9b7d1b90-043b-410a-bbcb-08f68e6caa2a@www.paxvilla.com
DTSTAMP:20260422T200235Z
DTSTART:20260425T130000Z
DTEND:20260425T140000Z
SUMMARY:Viewing
DESCRIPTION:
URL:https://www.paxvilla.com/obituaries/fredistone-octavien
LOCATION: 4701 Lenox Boulevard  Orlando FL 32811
GEO:28.5290941;-81.4413835
END:VEVENT
END:VCALENDAR